BEGIN:VCALENDAR
VERSION:2.0
PRODID:-//chikkutakku.com//RDFCal 1.0//EN
X-WR-CALDESC:GoogleカレンダーやiCalendar形式情報を共有シェ
 アしましょう。近所のイベントから全国のイベントま
 で今日のイベント検索やスケジュールを決めるならち
 っくたっく
X-WR-CALNAME:ちっくたっく
X-WR-TIMEZONE:UTC
BEGIN:VEVENT
SUMMARY:(รองฯรุ่ง)เชิญร่วมพิธีเ
 ปิดงานแสดงและจำหน่ายสินค
 ้า งาน"Samut Songkhram Select:Taste of Maeklong วัตถุ
 ดิบล้ำค่า สู่อาหารถิ่นชั้
 นเลิศ แห่งลุ่มน้ำแม่กลอง"
DTSTART;VALUE=DATE-TIME:20260501T033000Z
DTEND;VALUE=DATE-TIME:20260501T080000Z
UID:335984302068
DESCRIPTION:(รองฯรุ่ง)เชิญร่วมพิธี
 เปิดงานแสดงและจำหน่ายสิน
 ค้า งาน"Samut Songkhram Select:Taste of Maeklong วัตถ
 ุดิบล้ำค่า สู่อาหารถิ่นชั
 ้นเลิศ แห่งลุ่มน้ำแม่กลอง"
LOCATION:ณ ห้างสรรพสินค้าเซ็นทร
 ัลเวสต์เกต อ.บางใหญ่ จ.นนทบ
 ุรี
END:VEVENT
END:VCALENDAR
