BEGIN:VCALENDAR
VERSION:2.0
PRODID:-//chikkutakku.com//RDFCal 1.0//EN
X-WR-CALDESC:GoogleカレンダーやiCalendar形式情報を共有シェ
 アしましょう。近所のイベントから全国のイベントま
 で今日のイベント検索やスケジュールを決めるならち
 っくたっく
X-WR-CALNAME:ちっくたっく
X-WR-TIMEZONE:UTC
BEGIN:VEVENT
SUMMARY:11:00びわこジャズ東近江
DTSTART;VALUE=DATE:20260424
DTEND;VALUE=DATE:20260426
UID:336036083425
DESCRIPTION:びわこジャズ東近江4/25（土）〜26（日）滋賀
 県 11:00-17:30、12:00-17:104/254/25GET BILL MONKEYSハナツムギ華波
 quartetTëKMO+Yammy*SINON佐合井マリ子東近江市役所～八日市
 駅周辺4/26 4/26西村有香里クインテットfeat 高橋徹木原
 鮎子カルテット井上智トリオ山田静香トリオFour voicesThe
  NxtBeatsHeartful★funksjaja浜端ヨウヘイ
LOCATION:東近江市役所～八日市駅周辺
END:VEVENT
END:VCALENDAR
