BEGIN:VCALENDAR
VERSION:2.0
PRODID:-//chikkutakku.com//RDFCal 1.0//EN
X-WR-CALDESC:GoogleカレンダーやiCalendar形式情報を共有シェ
 アしましょう。近所のイベントから全国のイベントま
 で今日のイベント検索やスケジュールを決めるならち
 っくたっく
X-WR-CALNAME:ちっくたっく
X-WR-TIMEZONE:UTC
BEGIN:VEVENT
SUMMARY:🎸【ロックDJイベント】LET IT ROCK #6
DTSTART;VALUE=DATE-TIME:20260424T120000Z
DTEND;VALUE=DATE-TIME:20260424T143000Z
UID:336671976103
DESCRIPTION:【イベント主催者】\n　Ganzki (がんつき)　やま
 しぃ　MORI-KW\n【イベント内容】\n　毎月1回開催中!いろ
 んなロックとメタルが流れるDJイベントです\nご参加は
 お気軽に!!\n【イベントジャンル】\n　音楽系イベント\,
  定期イベント\n【参加条件（モデル、人数制限など）
 】\n　イベントの録音・録画は禁止です\n写真撮影はOK\n
 【参加方法】\n　出演者もしくはグループインスタンス
 にJoin\n\n・出演者:\n21:00～21:50　やましぃ\n21:50～22:40　Ga
 nzki(がんつき)\n22:40～23:30　メンタス\n\n・VRCグループURL:
 \nhttps://vrc.group/LIR.6524 \n【備考】\n　イベントハッシュ
 タグ:\n#LIR_VR
LOCATION:
END:VEVENT
END:VCALENDAR
