BEGIN:VCALENDAR
VERSION:2.0
PRODID:-//chikkutakku.com//RDFCal 1.0//EN
X-WR-CALDESC:GoogleカレンダーやiCalendar形式情報を共有シェ
 アしましょう。近所のイベントから全国のイベントま
 で今日のイベント検索やスケジュールを決めるならち
 っくたっく
X-WR-CALNAME:ちっくたっく
X-WR-TIMEZONE:UTC
BEGIN:VEVENT
SUMMARY:全７科目336分類　ビル管理技術者試験問題集
DTSTART;VALUE=DATE:20260424
DTEND;VALUE=DATE:20260425
UID:337218366961
DESCRIPTION:2026-04-25全７科目336分類　ビル管理技術者試験
 問題集設備と管理編集部オーム社
LOCATION:
END:VEVENT
END:VCALENDAR
