BEGIN:VCALENDAR
VERSION:2.0
PRODID:-//chikkutakku.com//RDFCal 1.0//EN
X-WR-CALDESC:GoogleカレンダーやiCalendar形式情報を共有シェ
 アしましょう。近所のイベントから全国のイベントま
 で今日のイベント検索やスケジュールを決めるならち
 っくたっく
X-WR-CALNAME:ちっくたっく
X-WR-TIMEZONE:UTC
BEGIN:VEVENT
SUMMARY:【第116回】ヤニカス集会(YANIKS.0309 グループ参加
 ・join）
DTSTART;VALUE=DATE-TIME:20260422T130000Z
DTEND;VALUE=DATE-TIME:20260422T140000Z
UID:337397142823
DESCRIPTION:【イベント主催者】\n　梅チャヅケ\n【イベン
 ト内容】\n　ヤニカスがヤニを吸いながら雑談するイベ
 ントです\n喫煙所です\n【イベントジャンル】\n　その
 他交流会\, 初心者向けイベント\, 定期イベント\n【参加
 条件（モデル、人数制限など）】\n　禁煙家・喫煙者に
 嫌悪感がある方はご遠慮ください\n【参加方法】\n　YANI
 KS.0309(グループに参加・グループインスタンスにjoin)\n\n
 【備考】\n　他の参加者に迷惑がかかる行為はおやめく
 ださい。\n見つけた場合注意＆聞かない場合はキックし
 ます。\n
LOCATION:
END:VEVENT
END:VCALENDAR
