BEGIN:VCALENDAR
VERSION:2.0
PRODID:-//chikkutakku.com//RDFCal 1.0//EN
X-WR-CALDESC:GoogleカレンダーやiCalendar形式情報を共有シェ
 アしましょう。近所のイベントから全国のイベントま
 で今日のイベント検索やスケジュールを決めるならち
 っくたっく
X-WR-CALNAME:ちっくたっく
X-WR-TIMEZONE:UTC
BEGIN:VEVENT
SUMMARY:週刊 mofusand(モフサンド) クロスステッチ 2026年 4/2
 9号 [雑誌]
DTSTART;VALUE=DATE:20260421
DTEND;VALUE=DATE:20260422
UID:337475732030
DESCRIPTION:2026-04-22週刊 mofusand(モフサンド) クロスステッ
 チ 2026年 4/29号 [雑誌]アシェット・コレクションズ・ジ
 ャパン
LOCATION:
END:VEVENT
END:VCALENDAR
