BEGIN:VCALENDAR
VERSION:2.0
PRODID:-//chikkutakku.com//RDFCal 1.0//EN
X-WR-CALDESC:GoogleカレンダーやiCalendar形式情報を共有シェ
 アしましょう。近所のイベントから全国のイベントま
 で今日のイベント検索やスケジュールを決めるならち
 っくたっく
X-WR-CALNAME:ちっくたっく
X-WR-TIMEZONE:UTC
BEGIN:VEVENT
SUMMARY:特集展示「柳原良平のポスター展」
DTSTART;VALUE=DATE:20251117
DTEND;VALUE=DATE:20260506
UID:337749278527
DESCRIPTION:open 10:00 / end 17:00\n【休館日】\n月曜日（祝日の
 場合は開館、翌平日休館）\n※ただし、4月28日（月）、
 6月2日（月・横浜開港記念日）、8月12日（火）、9月22日
 （月）は特別開館\n年末年始 2025年12月29日（月）〜2026
 年1月3日（土）\nメンテナンス日 2026年1月28日（水）〜20
 26年2月4日（水）\n＝＝＝＝＝＝＝＝＝＝＝＝＝＝＝＝
 ＝\n船や海、港にかかわる仕事を多数手がけた柳原です
 が、本展示では、予備校、バーテンダー、スーパーマ
 ーケット、献血、ショッピングビルなど、海事関係以
 外の分野や業種で制作されたポスターもご紹介し、柳
 原の幅広い仕事ぶりをご覧いただきます。大型のポス
 ターを中心に15点ほど展示します。ぱっと人目をひく、
 柳原デザインのポスターをどうぞお楽しみください。\n
 \n【関連/参考ページ】\nhttps://www.nippon-maru.or.jp/20251101-165
 56/ （横浜みなと博物館企画展）\nhttps://www.nippon-maru.or.jp
 /y-museum/ （柳原良平アートミュージアム）\nhttps://www.nipp
 on-maru.or.jp/port-museum/ （横浜みなと博物館）
LOCATION:横浜みなと博物館【関東】
END:VEVENT
END:VCALENDAR
