BEGIN:VCALENDAR
VERSION:2.0
PRODID:-//chikkutakku.com//RDFCal 1.0//EN
X-WR-CALDESC:GoogleカレンダーやiCalendar形式情報を共有シェ
 アしましょう。近所のイベントから全国のイベントま
 で今日のイベント検索やスケジュールを決めるならち
 っくたっく
X-WR-CALNAME:ちっくたっく
X-WR-TIMEZONE:UTC
BEGIN:VEVENT
SUMMARY:【学園型イベント】 VRCAcademy『モンハンで学ぶ生
 物学～タマミツネの社会性と天眼との関係～』
DTSTART;VALUE=DATE-TIME:20260422T130000Z
DTEND;VALUE=DATE-TIME:20260422T140000Z
UID:337754541276
DESCRIPTION:【イベント主催者】\n　VRCAcademy/うみ先生\n【
 イベント内容】\n　一人ひとりの挑戦と成長を支える、
 学びと交流の学園型イベント『VRCAcademy』！\n\n2026年4月1
 8日（土）〜5月1日（金）にて\n『第5期 講義集中期間』
 を開講中！\n\n得意分野を伸ばしたい方、次のステップ
 に挑戦したい方、\nVRChatでの活動を始めたい方へ。\nVRCA
 cademyでは、志を同じくする仲間と出会い、\n講義を通し
 て“将来の進路を見つけるきっかけ”を提供する学園
 型イベントです。\n\n本講義では、うみ先生による『モ
 ンハンで学ぶ生物学～タマミツネの社会性と天眼との
 関係～』を実施！\nゲーム、モンスターハンターを例と
 して生物について学びます。\n今回はタマミツネの社会
 性と、特殊個体である天眼タマミツネとの関係性の説
 明、及び解説をします！\n\nどなたでもご参加いただけ
 ます！\n【イベントジャンル】\n　その他交流会\n【参
 加条件（モデル、人数制限など）】\n　・入学申し込み
 ／抽選／出席条件すべて不要！どなたでも参加OK！\n・
 インスタンス上限：40名（満員の場合は参加不可）\n・
 軽量アバター（0ポリ／Poor以下）への変更をお願いする
 場合があります\n\n【禁止事項】\n・VRChat規約に反する
 アバターの使用\n・爆音／視界ジャックなど迷惑行為\n
 ・差別／セクハラ／誹謗中傷などの行為\n・無許可での
 録音・録画（※撮影は講義ごとのルールに準拠）\n【参
 加方法】\n　① グループ『【公式】VRCAcademy（ID：VRCAO.55
 83）』に参加\nhttps://vrc.group/VRCAO.5583\n\n② 当日、Group＋
 インスタンスにJoin\n【備考】\n　詳細は公式Xをご確認
 ください！\n公式X：https://x.com/VRC_Academy
LOCATION:
END:VEVENT
END:VCALENDAR
