BEGIN:VCALENDAR
VERSION:2.0
PRODID:-//chikkutakku.com//RDFCal 1.0//EN
X-WR-CALDESC:GoogleカレンダーやiCalendar形式情報を共有シェ
 アしましょう。近所のイベントから全国のイベントま
 で今日のイベント検索やスケジュールを決めるならち
 っくたっく
X-WR-CALNAME:ちっくたっく
X-WR-TIMEZONE:UTC
BEGIN:VEVENT
SUMMARY:pocopen + nishiwaki Song of Small Seed vol.14 「Small Smile」発
 売ライブ
DTSTART;VALUE=DATE:20260424
DTEND;VALUE=DATE:20260425
UID:338482830441
DESCRIPTION:open 17:30 / start 18:00\n￥3\,000\n\n【関連/参考ペー
 ジ】\nhttps://www.mandala-1.com/ （吉祥寺曼荼羅）\nhttps://tiget
 .net/events/472975 （TIGET）
LOCATION:吉祥寺曼荼羅【関東】
END:VEVENT
END:VCALENDAR
