BEGIN:VCALENDAR
VERSION:2.0
PRODID:-//chikkutakku.com//RDFCal 1.0//EN
X-WR-CALDESC:GoogleカレンダーやiCalendar形式情報を共有シェ
 アしましょう。近所のイベントから全国のイベントま
 で今日のイベント検索やスケジュールを決めるならち
 っくたっく
X-WR-CALNAME:ちっくたっく
X-WR-TIMEZONE:UTC
BEGIN:VEVENT
SUMMARY:Δ25-26統測
DTSTART;VALUE=DATE:20260424
DTEND;VALUE=DATE:20260426
UID:338583258251
DESCRIPTION:Δ25-26統測
LOCATION:
END:VEVENT
END:VCALENDAR
