BEGIN:VCALENDAR
VERSION:2.0
PRODID:-//chikkutakku.com//RDFCal 1.0//EN
X-WR-CALDESC:GoogleカレンダーやiCalendar形式情報を共有シェ
 アしましょう。近所のイベントから全国のイベントま
 で今日のイベント検索やスケジュールを決めるならち
 っくたっく
X-WR-CALNAME:ちっくたっく
X-WR-TIMEZONE:UTC
BEGIN:VEVENT
SUMMARY:A池袋 初心者クラス6 吹野（チャチャチャ②前半
 、ワルツ②）
DTSTART;VALUE=DATE-TIME:20260518T103000Z
DTEND;VALUE=DATE-TIME:20260518T120000Z
UID:338731722185
DESCRIPTION:ステップ名＆動画\nチャチャチャ②前半：https:
 //dancecirclej.com/index.php?go=f5Rp6u\nワルツ②：https://dancecircle
 j.com/index.php?go=8KKSvG
LOCATION:タキガワダンススクール池袋
END:VEVENT
END:VCALENDAR
