BEGIN:VCALENDAR
VERSION:2.0
PRODID:-//chikkutakku.com//RDFCal 1.0//EN
X-WR-CALDESC:GoogleカレンダーやiCalendar形式情報を共有シェ
 アしましょう。近所のイベントから全国のイベントま
 で今日のイベント検索やスケジュールを決めるならち
 っくたっく
X-WR-CALNAME:ちっくたっく
X-WR-TIMEZONE:UTC
BEGIN:VEVENT
SUMMARY:【配信特典会】MEWCATUNE＠MT総会「新シーズンの陣
 」
DTSTART;VALUE=DATE-TIME:20260423T110000Z
DTEND;VALUE=DATE-TIME:20260423T120000Z
UID:338886446783
DESCRIPTION:MT総会　「新シーズンの陣」4/2320:00〜観覧無料
 https://twitcasting.tv/mewcatune/movie/792948145特典会チェキhttp://m
 usictrace.thebase.in
LOCATION:
END:VEVENT
END:VCALENDAR
