BEGIN:VCALENDAR
VERSION:2.0
PRODID:-//chikkutakku.com//RDFCal 1.0//EN
X-WR-CALDESC:GoogleカレンダーやiCalendar形式情報を共有シェ
 アしましょう。近所のイベントから全国のイベントま
 で今日のイベント検索やスケジュールを決めるならち
 っくたっく
X-WR-CALNAME:ちっくたっく
X-WR-TIMEZONE:UTC
BEGIN:VEVENT
SUMMARY:St. Thallelaeus at Aegae in Cilicia and his companions
DTSTART;VALUE=DATE-TIME:20260519T183000Z
DTEND;VALUE=DATE-TIME:20260520T183000Z
UID:339447957291
DESCRIPTION:The Martyrs Thallelaios\, Alexander\, and Asterius lived durin
 g the reign of Numerian (283-284).\n\nSt. Severus the Great of Antioch Cat
 hedral Homily # 110
LOCATION:
END:VEVENT
END:VCALENDAR
