BEGIN:VCALENDAR
VERSION:2.0
PRODID:-//chikkutakku.com//RDFCal 1.0//EN
X-WR-CALDESC:GoogleカレンダーやiCalendar形式情報を共有シェ
 アしましょう。近所のイベントから全国のイベントま
 で今日のイベント検索やスケジュールを決めるならち
 っくたっく
X-WR-CALNAME:ちっくたっく
X-WR-TIMEZONE:UTC
BEGIN:VEVENT
SUMMARY:転生したら第七王子だったので、気ままに魔術を
 極めます（２３）
DTSTART;VALUE=DATE:20260507
DTEND;VALUE=DATE:20260508
UID:339637150029
DESCRIPTION:2026-05-08転生したら第七王子だったので、気ま
 まに魔術を極めます（２３）石沢庸介/謙虚なサークル/
 ＊メル＊講談社
LOCATION:
END:VEVENT
END:VCALENDAR
