BEGIN:VCALENDAR
VERSION:2.0
PRODID:-//chikkutakku.com//RDFCal 1.0//EN
X-WR-CALDESC:GoogleカレンダーやiCalendar形式情報を共有シェ
 アしましょう。近所のイベントから全国のイベントま
 で今日のイベント検索やスケジュールを決めるならち
 っくたっく
X-WR-CALNAME:ちっくたっく
X-WR-TIMEZONE:UTC
BEGIN:VEVENT
SUMMARY:Anniversary of ordination
DTSTART;VALUE=DATE-TIME:20260518T050000Z
DTEND;VALUE=DATE-TIME:20260519T050000Z
UID:339850310576
DESCRIPTION:Fr. Chuck Wonch was ordained to the priesthood on May 18\, 200
 2
LOCATION:
END:VEVENT
END:VCALENDAR
