BEGIN:VCALENDAR
VERSION:2.0
PRODID:-//chikkutakku.com//RDFCal 1.0//EN
X-WR-CALDESC:GoogleカレンダーやiCalendar形式情報を共有シェ
 アしましょう。近所のイベントから全国のイベントま
 で今日のイベント検索やスケジュールを決めるならち
 っくたっく
X-WR-CALNAME:ちっくたっく
X-WR-TIMEZONE:UTC
BEGIN:VEVENT
SUMMARY:(รองเสกสรรค์) ประชุมคณะอ
 นุกรรมการประกันสังคมจังห
 วัดศรีสะเกษ ครั้งที่2/ 2569 ณ ห
 ้องประชุมชั้น2 สำนักงานประ
 กันสังคมจังหวัดศรีสะเกษ
DTSTART;VALUE=DATE-TIME:20260422T063000Z
DTEND;VALUE=DATE-TIME:20260422T090000Z
UID:339992233350
DESCRIPTION:(รองเสกสรรค์) ประชุมคณ
 ะอนุกรรมการประกันสังคมจั
 งหวัดศรีสะเกษ ครั้งที่2/ 2569 
 ณ ห้องประชุมชั้น2 สำนักงาน
 ประกันสังคมจังหวัดศรีสะเ
 กษ
LOCATION:
END:VEVENT
END:VCALENDAR
