BEGIN:VCALENDAR
VERSION:2.0
PRODID:-//chikkutakku.com//RDFCal 1.0//EN
X-WR-CALDESC:GoogleカレンダーやiCalendar形式情報を共有シェ
 アしましょう。近所のイベントから全国のイベントま
 で今日のイベント検索やスケジュールを決めるならち
 っくたっく
X-WR-CALNAME:ちっくたっく
X-WR-TIMEZONE:UTC
BEGIN:VEVENT
SUMMARY:Bar月読命 第12回プレーオープン
DTSTART;VALUE=DATE-TIME:20260426T123000Z
DTEND;VALUE=DATE-TIME:20260426T133000Z
UID:340228492365
DESCRIPTION:【イベント主催者】\n　ことおじ\n【イベント
 内容】\n　【接客型イベント】Bar月読命でございます。
 のんびり会話が楽しむことが出来る\nバーです。キャス
 トは雰囲気に合わせた服装にし、基本的はお客さんが
 バーカウン\nターに座ってキャストとカウンターで話を
 するスタンスです。構成としてはお客様\n8人、キャス
 トは3～4人です。\n開店日は不定期開催で日曜日、21時30
 分～22時30分です。\n開店時は22時15分まで(接客後、撮影
 後アフターです\n【イベントジャンル】\n　店舗系イベ
 ント\, 初心者向けイベント\n【参加条件（モデル、人数
 制限など）】\n　アバターダウンロードサイズ70MB以下\n
 違法アバター、迷惑アバター、版権アバターは禁止\n【
 参加方法】\n　Group+にて開催\nTUKUYO.2193　検索をして参
 加\n【備考】\n　https://x.com/BARtukiyomiVRC\nvrc.group/TUKUYO.2
LOCATION:
END:VEVENT
END:VCALENDAR
