BEGIN:VCALENDAR
VERSION:2.0
PRODID:-//chikkutakku.com//RDFCal 1.0//EN
X-WR-CALDESC:GoogleカレンダーやiCalendar形式情報を共有シェ
 アしましょう。近所のイベントから全国のイベントま
 で今日のイベント検索やスケジュールを決めるならち
 っくたっく
X-WR-CALNAME:ちっくたっく
X-WR-TIMEZONE:UTC
BEGIN:VEVENT
SUMMARY:e:ごぶごぶ #569
DTSTART;VALUE=DATE-TIME:20260423T000000Z
DTEND;VALUE=DATE-TIME:20260423T010000Z
UID:348969241679
DESCRIPTION:#ウエンツ瑛士\nhttps://www.gaora.co.jp/variety/1308910\n
 \n#569\nウエンツ瑛士が代役MCフットボールアワー・後藤
 輝基と大阪NO.1!? うどんかまぼこ板巡り 前編\n\n3月14日(
 土) 17:30 ～ 18:30\n4月23日(木) 9:00 ～ 10:00\n出演：フットボ
 ールアワー 後藤輝基、ウエンツ瑛士\nMBS放送：2025/3/22\n
 \n浜田雅功の代役MCをフットボールアワー・後藤輝基が
 務め、相方としてウエンツ瑛士が登場する。うどんが
 大好きだというウエンツのために、かまぼこ板を使っ
 たくじ引きで行き先を決める「かまぼこ板企画」で、
 大阪のうどんを巡る。『ネオ大阪讃岐うどん』と呼ば
 れるうどんや、後藤が大絶賛する創業約250年の老舗う
 どん店を紹介。
LOCATION:GAORA
END:VEVENT
END:VCALENDAR
