BEGIN:VCALENDAR
VERSION:2.0
PRODID:-//chikkutakku.com//RDFCal 1.0//EN
X-WR-CALDESC:GoogleカレンダーやiCalendar形式情報を共有シェ
 アしましょう。近所のイベントから全国のイベントま
 で今日のイベント検索やスケジュールを決めるならち
 っくたっく
X-WR-CALNAME:ちっくたっく
X-WR-TIMEZONE:UTC
BEGIN:VEVENT
SUMMARY:明治の出版革命 書店界の風雲児「兎屋」の興亡
DTSTART;VALUE=DATE:20260517
DTEND;VALUE=DATE:20260518
UID:349277699394
DESCRIPTION:2026-05-18明治の出版革命 書店界の風雲児「兎屋
 」の興亡鈴木 俊幸KADOKAWA
LOCATION:
END:VEVENT
END:VCALENDAR
