BEGIN:VCALENDAR
VERSION:2.0
PRODID:-//chikkutakku.com//RDFCal 1.0//EN
X-WR-CALDESC:GoogleカレンダーやiCalendar形式情報を共有シェ
 アしましょう。近所のイベントから全国のイベントま
 で今日のイベント検索やスケジュールを決めるならち
 っくたっく
X-WR-CALNAME:ちっくたっく
X-WR-TIMEZONE:UTC
BEGIN:VEVENT
SUMMARY:Discovery of the Holy Cross
DTSTART;VALUE=DATE-TIME:20260521T183000Z
DTEND;VALUE=DATE-TIME:20260522T183000Z
UID:352134520760
DESCRIPTION:In the early Syriac tradition\, there were two separate feasts
  for the Holy Cross\, one on May 22 for the Discovery and another on Septe
 mber 14 for the Exaltation.\n\nBL17134
LOCATION:
END:VEVENT
END:VCALENDAR
