BEGIN:VCALENDAR
VERSION:2.0
PRODID:-//chikkutakku.com//RDFCal 1.0//EN
X-WR-CALDESC:GoogleカレンダーやiCalendar形式情報を共有シェ
 アしましょう。近所のイベントから全国のイベントま
 で今日のイベント検索やスケジュールを決めるならち
 っくたっく
X-WR-CALNAME:ちっくたっく
X-WR-TIMEZONE:UTC
BEGIN:VEVENT
SUMMARY:【購入特典】『六畳間の侵略者！？49』BOOK☆WALKER
 限定書き下ろしショートストーリー
DTSTART;VALUE=DATE:20260430
DTEND;VALUE=DATE:20260501
UID:354472727791
DESCRIPTION:2026-05-01【購入特典】『六畳間の侵略者！？49
 』BOOK☆WALKER限定書き下ろしショートストーリー健速/ポ
 コホビージャパン
LOCATION:
END:VEVENT
END:VCALENDAR
