BEGIN:VCALENDAR
VERSION:2.0
PRODID:-//chikkutakku.com//RDFCal 1.0//EN
X-WR-CALDESC:GoogleカレンダーやiCalendar形式情報を共有シェ
 アしましょう。近所のイベントから全国のイベントま
 で今日のイベント検索やスケジュールを決めるならち
 っくたっく
X-WR-CALNAME:ちっくたっく
X-WR-TIMEZONE:UTC
BEGIN:VEVENT
SUMMARY:(นพ.สสจ)ลงพื้นที่เยี่ยมผ
 ู้ป่วยในเขตพื้นที่ต.หนองใ
 หญ่ อ.เมืองจันทร์
DTSTART;VALUE=DATE-TIME:20260423T020000Z
DTEND;VALUE=DATE-TIME:20260423T030000Z
UID:355291761986
DESCRIPTION:(นพ.สสจ)ลงพื้นที่เยี่ย
 มผู้ป่วยในเขตพื้นที่ต.หนอ
 งใหญ่ อ.เมืองจันทร์
LOCATION:
END:VEVENT
END:VCALENDAR
