BEGIN:VCALENDAR
VERSION:2.0
PRODID:-//chikkutakku.com//RDFCal 1.0//EN
X-WR-CALDESC:GoogleカレンダーやiCalendar形式情報を共有シェ
 アしましょう。近所のイベントから全国のイベントま
 で今日のイベント検索やスケジュールを決めるならち
 っくたっく
X-WR-CALNAME:ちっくたっく
X-WR-TIMEZONE:UTC
BEGIN:VEVENT
SUMMARY:フーディストノート 人気料理家10人の 毎日続く! 
 体ととのう 腸活＆発酵レシピ
DTSTART;VALUE=DATE:20260426
DTEND;VALUE=DATE:20260427
UID:355306249461
DESCRIPTION:2026-04-27フーディストノート 人気料理家10人の 
 毎日続く! 体ととのう 腸活＆発酵レシピ宝島社
LOCATION:
END:VEVENT
END:VCALENDAR
