BEGIN:VCALENDAR
VERSION:2.0
PRODID:-//chikkutakku.com//RDFCal 1.0//EN
X-WR-CALDESC:GoogleカレンダーやiCalendar形式情報を共有シェ
 アしましょう。近所のイベントから全国のイベントま
 で今日のイベント検索やスケジュールを決めるならち
 っくたっく
X-WR-CALNAME:ちっくたっく
X-WR-TIMEZONE:UTC
BEGIN:VEVENT
SUMMARY:【Android 対応】スターソックス地球店＠ワーミー
 達が接客するカフェ【公式】
DTSTART;VALUE=DATE-TIME:20260424T130000Z
DTEND;VALUE=DATE-TIME:20260424T140000Z
UID:355744333224
DESCRIPTION:【イベント主催者】\n　Deep-in-papico\n【イベン
 ト内容】\n　ワーミプラネットにあるカフェ　\nスター
 ソックスが地球に出店しました☕\nワーミー達が接客を
 するカフェイベントを開催しています！\nワーミーとお
 話したい方、見ていたい方歓迎！\n隔週金曜22時～23時
 営業中\n【イベントジャンル】\n　その他交流会\, 店舗
 系イベント\, 定期イベント\n【参加条件（モデル、人数
 制限など）】\n　人数は店員10名お客様20名合計30名まで
 \n禁止事項等は公式Xから営業日に閲覧できますのでそ
 ちらでご確認ください\n\n【参加方法】\n　グループ＋
 にて開催　グループにご参加の上、グループインスタ
 ンスにJoin\nhttps://vrchat.com/home/group/grp_77063614-00ea-4639-b851-9
 9b770014121\n【備考】\n　スターソックス地球店公式Xアカ
 ウント\nhttps://x.com/starsocks_earth
LOCATION:
END:VEVENT
END:VCALENDAR
