BEGIN:VCALENDAR
VERSION:2.0
PRODID:-//chikkutakku.com//RDFCal 1.0//EN
X-WR-CALDESC:GoogleカレンダーやiCalendar形式情報を共有シェ
 アしましょう。近所のイベントから全国のイベントま
 で今日のイベント検索やスケジュールを決めるならち
 っくたっく
X-WR-CALNAME:ちっくたっく
X-WR-TIMEZONE:UTC
BEGIN:VEVENT
SUMMARY:(นพ.สสจ.)โดยอ.จันจิรา มูลน
 ิธิรักษ์ธรรม ขอเข้าพบเรื่
 องการออกหน่วยแพทย์เคลื่อ
 นที่และทันตกรรมเคลื่อนที
 ่
DTSTART;VALUE=DATE-TIME:20260429T030000Z
DTEND;VALUE=DATE-TIME:20260429T040000Z
UID:356365535461
DESCRIPTION:(นพ.สสจ.)โดยอ.จันจิรา มู
 ลนิธิรักษ์ธรรม ขอเข้าพบเร
 ื่องการออกหน่วยแพทย์เคลื
 ่อนที่และทันตกรรมเคลื่อน
 ที่
LOCATION:ณ ห้องนพ.สสจ.สมุทรสงครา
 ม
END:VEVENT
END:VCALENDAR
