BEGIN:VCALENDAR
VERSION:2.0
PRODID:-//chikkutakku.com//RDFCal 1.0//EN
X-WR-CALDESC:GoogleカレンダーやiCalendar形式情報を共有シェ
 アしましょう。近所のイベントから全国のイベントま
 で今日のイベント検索やスケジュールを決めるならち
 っくたっく
X-WR-CALNAME:ちっくたっく
X-WR-TIMEZONE:UTC
BEGIN:VEVENT
SUMMARY:St. Michael and his sister\, of the monastery outside Mardin
DTSTART;VALUE=DATE-TIME:20260430T183000Z
DTEND;VALUE=DATE-TIME:20260501T183000Z
UID:360494901423
DESCRIPTION:In hagiography: Michael and his sister (Shiris?) were martyred
  outside the gate of Mardin in a place called the Monastery of the Fish or
  the Monastery of the Column.\n\nMor Michael the Hermit\n\nRSoH
LOCATION:
END:VEVENT
END:VCALENDAR
