BEGIN:VCALENDAR
VERSION:2.0
PRODID:-//chikkutakku.com//RDFCal 1.0//EN
X-WR-CALDESC:GoogleカレンダーやiCalendar形式情報を共有シェ
 アしましょう。近所のイベントから全国のイベントま
 で今日のイベント検索やスケジュールを決めるならち
 っくたっく
X-WR-CALNAME:ちっくたっく
X-WR-TIMEZONE:UTC
BEGIN:VEVENT
SUMMARY:『トンナム・ワリット、梅津和時 インプロ・セ
 ッション』
DTSTART;VALUE=DATE:20260517
DTEND;VALUE=DATE:20260518
UID:362618582552
DESCRIPTION:open 19:00 / start 19:30\n出演:\nTonnam Warit(P\,Key)\n梅
 津和時(As\,Bcl\,Cl\,Fl)\n多田葉子(As\,Ts\,Cl)\n石原雄治(D)　
 　　　　　　　　　　　　　　　　　　　　　　　　
 　　\n料金\n3\,500円(+order)\n\nTonnam日本ショートツアー最
 終日はこちらもご無沙汰の上尾PlusElevenです。\nオーナ
 ーが変わって初めて伺います。\n多田さんが戻ってきて
 の最終日とても楽しみです！\n\n【関連/参考ページ】\nh
 ttps://www.pluseleven-ageo.com （上尾plus eleven）
LOCATION:上尾plus eleven【関東】
END:VEVENT
END:VCALENDAR
