BEGIN:VCALENDAR
VERSION:2.0
PRODID:-//chikkutakku.com//RDFCal 1.0//EN
X-WR-CALDESC:GoogleカレンダーやiCalendar形式情報を共有シェ
 アしましょう。近所のイベントから全国のイベントま
 で今日のイベント検索やスケジュールを決めるならち
 っくたっく
X-WR-CALNAME:ちっくたっく
X-WR-TIMEZONE:UTC
BEGIN:VEVENT
SUMMARY:A池袋 初心者クラス18 安田（ヴェニーズワルツ④
 、ジャイブ②）
DTSTART;VALUE=DATE-TIME:20260515T103000Z
DTEND;VALUE=DATE-TIME:20260515T120000Z
UID:366041882425
DESCRIPTION:ステップ名＆動画\nヴェニーズワルツ④：https:
 //dancecirclej.com/index.php?go=wUsAFb\nジャイブ②：https://dancecir
 clej.com/index.php?go=g6sX3t
LOCATION:タキガワダンススクール池袋
END:VEVENT
END:VCALENDAR
