BEGIN:VCALENDAR
VERSION:2.0
PRODID:-//chikkutakku.com//RDFCal 1.0//EN
X-WR-CALDESC:GoogleカレンダーやiCalendar形式情報を共有シェ
 アしましょう。近所のイベントから全国のイベントま
 で今日のイベント検索やスケジュールを決めるならち
 っくたっく
X-WR-CALNAME:ちっくたっく
X-WR-TIMEZONE:UTC
BEGIN:VEVENT
SUMMARY:No Men's Bible Study/Prayer this week
DTSTART;VALUE=DATE-TIME:20260503T223000Z
DTEND;VALUE=DATE-TIME:20260504T003000Z
UID:368033123882
DESCRIPTION:No Men's Bible Study/Prayer this week
LOCATION:Calvary Chapel of Manitowoc\, 1208 S 10th St\, Manitowoc\, WI 542
 20\, USA
END:VEVENT
END:VCALENDAR
