BEGIN:VCALENDAR
VERSION:2.0
PRODID:-//chikkutakku.com//RDFCal 1.0//EN
X-WR-CALDESC:GoogleカレンダーやiCalendar形式情報を共有シェ
 アしましょう。近所のイベントから全国のイベントま
 で今日のイベント検索やスケジュールを決めるならち
 っくたっく
X-WR-CALNAME:ちっくたっく
X-WR-TIMEZONE:UTC
BEGIN:VEVENT
SUMMARY:【夜Live】新宿motion
DTSTART;VALUE=DATE:20260424
DTEND;VALUE=DATE:20260425
UID:379455801041
DESCRIPTION:■イベント名\n赤桃箱企画presents\n『やりガチ
 ！vol.4』\n■会場\n新宿motion\n■日時\n4/25（土）\nOPEN 17:00
 （16:50整列）\nSTART 17:30\n■料金\n・来場チケット予約　3
 500円+1D\nhttps://docs.google.com/forms/d/e/1FAIpQLSf0FjyQnmWnQ40OKPK9pAy
 Gdfk8Th5mEO8NzHbgzZr2kL3EIA/viewform\n\n・配信購入ページ 3500円+
 システム手数料\nhttps://premier.twitcasting.tv/momomochan315/shopca
 rt/419878
LOCATION:
END:VEVENT
END:VCALENDAR
