BEGIN:VCALENDAR
VERSION:2.0
PRODID:-//chikkutakku.com//RDFCal 1.0//EN
X-WR-CALDESC:GoogleカレンダーやiCalendar形式情報を共有シェ
 アしましょう。近所のイベントから全国のイベントま
 で今日のイベント検索やスケジュールを決めるならち
 っくたっく
X-WR-CALNAME:ちっくたっく
X-WR-TIMEZONE:UTC
BEGIN:VEVENT
SUMMARY:大図研京都ワンディセミナー「大図研京都ワンデ
 ィセミナー「大学図書館を学問する」」（佐藤翔）
DTSTART;VALUE=DATE-TIME:20260523T053000Z
DTEND;VALUE=DATE-TIME:20260523T073000Z
UID:379471552195
DESCRIPTION:https://www.daitoken.com/kyoto/event/20260523.html
LOCATION:同志社大学 尋真館\, Jinshinkan Building\, 159 近衛殿
 表町 上京区 京都市 京都府 602-0047 日本
END:VEVENT
END:VCALENDAR
