BEGIN:VCALENDAR
VERSION:2.0
PRODID:-//chikkutakku.com//RDFCal 1.0//EN
X-WR-CALDESC:GoogleカレンダーやiCalendar形式情報を共有シェ
 アしましょう。近所のイベントから全国のイベントま
 で今日のイベント検索やスケジュールを決めるならち
 っくたっく
X-WR-CALNAME:ちっくたっく
X-WR-TIMEZONE:UTC
BEGIN:VEVENT
SUMMARY:ViVi (ヴィヴィ) SPECIAL 2026年7・8月合併号 [雑誌] 表
 紙：JI-FW ver. 金城碧海、川西拓実、佐藤景瑚（JO1）、田
 島将吾、高塚大夢、西洸人（INI）付録：JI BLUE フォトア
 ルバム
DTSTART;VALUE=DATE:20260521
DTEND;VALUE=DATE:20260522
UID:380746206036
DESCRIPTION:2026-05-22ViVi (ヴィヴィ) SPECIAL 2026年7・8月合併号
  [雑誌] 表紙：JI-FW ver. 金城碧海、川西拓実、佐藤景瑚
 （JO1）、田島将吾、高塚大夢、西洸人（INI）付録：JI BL
 UE フォトアルバム講談社
LOCATION:
END:VEVENT
END:VCALENDAR
