BEGIN:VCALENDAR
VERSION:2.0
PRODID:-//chikkutakku.com//RDFCal 1.0//EN
X-WR-CALDESC:GoogleカレンダーやiCalendar形式情報を共有シェ
 アしましょう。近所のイベントから全国のイベントま
 で今日のイベント検索やスケジュールを決めるならち
 っくたっく
X-WR-CALNAME:ちっくたっく
X-WR-TIMEZONE:UTC
BEGIN:VEVENT
SUMMARY:UWA Day of Strings
DTSTART;VALUE=DATE-TIME:20260509T050000Z
DTEND;VALUE=DATE-TIME:20260509T090000Z
UID:389584759552
DESCRIPTION:Presented in collaboration with AUSTA WA\, join celebrated art
 ists and educators Shaun Lee-Chen\, SuzieWijsman and a host of string spec
 ialists for a fun day of performance\, perfect for Violin\, Viola and Cell
 oplayers of all ages. The day will include cello masterclasses\, technique
  workshops\, ensemble playing\,instrument set-up\, and more! trybooking.c
 om/DIEDUhttps://www.trybooking.com/events/landing/1514338
LOCATION:UWA Conservatorium of Music
END:VEVENT
END:VCALENDAR
