BEGIN:VCALENDAR
VERSION:2.0
PRODID:-//chikkutakku.com//RDFCal 1.0//EN
X-WR-CALDESC:GoogleカレンダーやiCalendar形式情報を共有シェ
 アしましょう。近所のイベントから全国のイベントま
 で今日のイベント検索やスケジュールを決めるならち
 っくたっく
X-WR-CALNAME:ちっくたっく
X-WR-TIMEZONE:UTC
BEGIN:VEVENT
SUMMARY:02/23 ~ 05/13 技高三年級學習歷程報部清單勾選起迄
 日
DTSTART;VALUE=DATE:20260222
DTEND;VALUE=DATE:20260513
UID:389768835980
DESCRIPTION:02/23 ~ 05/13 技高三年級學習歷程報部清單勾選起
 迄日
LOCATION:
END:VEVENT
END:VCALENDAR
