BEGIN:VCALENDAR
VERSION:2.0
PRODID:-//chikkutakku.com//RDFCal 1.0//EN
X-WR-CALDESC:GoogleカレンダーやiCalendar形式情報を共有シェ
 アしましょう。近所のイベントから全国のイベントま
 で今日のイベント検索やスケジュールを決めるならち
 っくたっく
X-WR-CALNAME:ちっくたっく
X-WR-TIMEZONE:UTC
BEGIN:VEVENT
SUMMARY:たった一人の読者を生きる
DTSTART;VALUE=DATE:20260510
DTEND;VALUE=DATE:20260511
UID:391220071003
DESCRIPTION:2026-05-11たった一人の読者を生きる荒井 裕樹柏
 書房
LOCATION:
END:VEVENT
END:VCALENDAR
