BEGIN:VCALENDAR
VERSION:2.0
PRODID:-//chikkutakku.com//RDFCal 1.0//EN
X-WR-CALDESC:GoogleカレンダーやiCalendar形式情報を共有シェ
 アしましょう。近所のイベントから全国のイベントま
 で今日のイベント検索やスケジュールを決めるならち
 っくたっく
X-WR-CALNAME:ちっくたっく
X-WR-TIMEZONE:UTC
BEGIN:VEVENT
SUMMARY:【注】特別編 響け！ユーフォニアム～アンサン
 ブルコンテスト～ 
DTSTART;VALUE=DATE-TIME:20260423T105900Z
DTEND;VALUE=DATE-TIME:20260423T115600Z
UID:398166891439
DESCRIPTION: /  / https://www.youtube.com/watch?v=eUwt6tiO0nE (プレミ
 ア公開) アーカイブ配信：4月24日(金)12:00まで https://anime
 -eupho.com/news/?id=679
LOCATION:YouTube
END:VEVENT
END:VCALENDAR
