BEGIN:VCALENDAR
VERSION:2.0
PRODID:-//chikkutakku.com//RDFCal 1.0//EN
X-WR-CALDESC:GoogleカレンダーやiCalendar形式情報を共有シェ
 アしましょう。近所のイベントから全国のイベントま
 で今日のイベント検索やスケジュールを決めるならち
 っくたっく
X-WR-CALNAME:ちっくたっく
X-WR-TIMEZONE:UTC
BEGIN:VEVENT
SUMMARY:【注】ポンコツクエスト #1 初陣 / #2 招集 / #3 対
 立 / #4 会合 / #5 武装 / #6 決戦 / #7 助言 / #8 聖剣 / #9 魔
 女 / #10 属性 / #11 指令 / #12 再戦 / #13 敵軍 / #14 裏切り / 
 #15 模擬戦
DTSTART;VALUE=DATE-TIME:20260422T113000Z
DTEND;VALUE=DATE-TIME:20260422T125700Z
UID:403049318792
DESCRIPTION: / #1 初陣 / #2 招集 / #3 対立 / #4 会合 / #5 武装 /
  #6 決戦 / #7 助言 / #8 聖剣 / #9 魔女 / #10 属性 / #11 指令 /
  #12 再戦 / #13 敵軍 / #14 裏切り / #15 模擬戦 / https://abema.t
 v/channels/anime-live/slots/EvABRTvSEargqD (無料TS1週間) ※リピー
 ト放送なし
LOCATION:アニメLIVE
END:VEVENT
END:VCALENDAR
