BEGIN:VCALENDAR
VERSION:2.0
PRODID:-//chikkutakku.com//RDFCal 1.0//EN
X-WR-CALDESC:GoogleカレンダーやiCalendar形式情報を共有シェ
 アしましょう。近所のイベントから全国のイベントま
 で今日のイベント検索やスケジュールを決めるならち
 っくたっく
X-WR-CALNAME:ちっくたっく
X-WR-TIMEZONE:UTC
BEGIN:VEVENT
SUMMARY:【注】ハイキュー!!(2) #1 レッツゴートーキョー!! 
 / #2 直射日光 / #3 “村人B” / #4 “センターエース” / #5
  『欲』 / #6 “テンポ” / #7 月の出 / #8 幻覚ヒーロー / #
 9 VS“傘” / #10 歯車 / #11 “上” / #12 試合開始!!
DTSTART;VALUE=DATE-TIME:20260422T000000Z
DTEND;VALUE=DATE-TIME:20260422T060000Z
UID:405205177614
DESCRIPTION: / #1 レッツゴートーキョー!! / #2 直射日光 / #3 
 “村人B” / #4 “センターエース” / #5 『欲』 / #6 “テ
 ンポ” / #7 月の出 / #8 幻覚ヒーロー / #9 VS“傘” / #10 
 歯車 / #11 “上” / #12 試合開始!! / https://abema.tv/channels/ab
 ema-anime-2/slots/Ah77pjyv2vvRhR リピート放送は 21:00～ https://ab
 ema.tv/channels/abema-anime-2/slots/Ah77kpPiRueKhZ (無料TS1週間)
LOCATION:Abemaアニメ2
END:VEVENT
END:VCALENDAR
