BEGIN:VCALENDAR
VERSION:2.0
PRODID:-//chikkutakku.com//RDFCal 1.0//EN
X-WR-CALDESC:GoogleカレンダーやiCalendar形式情報を共有シェ
 アしましょう。近所のイベントから全国のイベントま
 で今日のイベント検索やスケジュールを決めるならち
 っくたっく
X-WR-CALNAME:ちっくたっく
X-WR-TIMEZONE:UTC
BEGIN:VEVENT
SUMMARY:合気道
DTSTART;VALUE=DATE-TIME:20260422T104500Z
DTEND;VALUE=DATE-TIME:20260422T120000Z
UID:405587625772
DESCRIPTION:合気道
LOCATION:河芸体育館、〒510-0314 三重県津市河芸町浜田
END:VEVENT
END:VCALENDAR
