BEGIN:VCALENDAR
VERSION:2.0
PRODID:-//chikkutakku.com//RDFCal 1.0//EN
X-WR-CALDESC:GoogleカレンダーやiCalendar形式情報を共有シェ
 アしましょう。近所のイベントから全国のイベントま
 で今日のイベント検索やスケジュールを決めるならち
 っくたっく
X-WR-CALNAME:ちっくたっく
X-WR-TIMEZONE:UTC
BEGIN:VEVENT
SUMMARY:ビバリウムガイド 2026年 6月号 [雑誌]
DTSTART;VALUE=DATE:20260520
DTEND;VALUE=DATE:20260521
UID:408809233988
DESCRIPTION:2026-05-21ビバリウムガイド 2026年 6月号 [雑誌]エ
 ムピー・ジェー
LOCATION:
END:VEVENT
END:VCALENDAR
