BEGIN:VCALENDAR
VERSION:2.0
PRODID:-//chikkutakku.com//RDFCal 1.0//EN
X-WR-CALDESC:GoogleカレンダーやiCalendar形式情報を共有シェ
 アしましょう。近所のイベントから全国のイベントま
 で今日のイベント検索やスケジュールを決めるならち
 っくたっく
X-WR-CALNAME:ちっくたっく
X-WR-TIMEZONE:UTC
BEGIN:VEVENT
SUMMARY:RΣAL
DTSTART;VALUE=DATE:20260515
DTEND;VALUE=DATE:20260516
UID:412334576686
DESCRIPTION:2026年5月16日(土)『RΣAL』◆時間 : OPEN 15:30 START 1
 5:45◆会場 : DESEO mini with VV◆出演者：しらい / meluQ / Ac!u 
 Gromov / il pleut / 原宿眠眠 / 露光時間 /セカイシティ / CUB
 ΣLIC / きゅんきゅん♡ぷりえーる / ハチキュウ /  kijō n
 o kūron / 参宮橋駅前女子 / MIC RAW RUGA / RETRORAIN◇チケット
 情報◇前売り¥2\,800  /当日¥3\,300（1D代別）◆プレイガ
 イド：https://tiget.net/events/484761※4/25(土)22:00〜販売開始
LOCATION:
END:VEVENT
END:VCALENDAR
