BEGIN:VCALENDAR
VERSION:2.0
PRODID:-//chikkutakku.com//RDFCal 1.0//EN
X-WR-CALDESC:GoogleカレンダーやiCalendar形式情報を共有シェ
 アしましょう。近所のイベントから全国のイベントま
 で今日のイベント検索やスケジュールを決めるならち
 っくたっく
X-WR-CALNAME:ちっくたっく
X-WR-TIMEZONE:UTC
BEGIN:VEVENT
SUMMARY:St. Jude the Apostle
DTSTART;VALUE=DATE-TIME:20260521T183000Z
DTEND;VALUE=DATE-TIME:20260522T183000Z
UID:417259953881
DESCRIPTION:May 22nd  is the commemoration of the dukhrono of St. Jude the
  Apostle according to the Liturgical Calendar of the Syriac Orthodox Churc
 h. \n\nSt. Jude\, also known as Labbaeus bears the surname Thaddeus\, & wa
 s the son of James. (translated correctly in the Syriac Peshito of Luke 6:
 16 & Acts 1:13. It is incorrectly translated to brother of James in other 
 versions) \n\nHe preached in Samaria\, Mesopotamia & Persia where he reuni
 ted with fellow Apostle St. Simon.  \n\nHe is the Patron of the Armenian O
 rthodox Church along with St. Bartholomew. \n\nHe attained martyrdom along
  with St. Simon. \n\nOh St. Jude\, plead for us before God's throne of gra
 ce! Amen.\n\nRSoH
LOCATION:
END:VEVENT
END:VCALENDAR
