BEGIN:VCALENDAR
VERSION:2.0
PRODID:-//chikkutakku.com//RDFCal 1.0//EN
X-WR-CALDESC:GoogleカレンダーやiCalendar形式情報を共有シェ
 アしましょう。近所のイベントから全国のイベントま
 で今日のイベント検索やスケジュールを決めるならち
 っくたっく
X-WR-CALNAME:ちっくたっく
X-WR-TIMEZONE:UTC
BEGIN:VEVENT
SUMMARY:ヘルメット、赤黄色黒あるだけ  　青10個    炊飯
 器2升炊き、カセットコンロ5つ　ゆめのたね中川明子
DTSTART;VALUE=DATE-TIME:20260509T000000Z
DTEND;VALUE=DATE-TIME:20260509T060000Z
UID:428240671715
DESCRIPTION:使用日：5月9日【使用目的】　キッズレンジャ
 ー竹林整備、炊飯
LOCATION:
END:VEVENT
END:VCALENDAR
