BEGIN:VCALENDAR
VERSION:2.0
PRODID:-//chikkutakku.com//RDFCal 1.0//EN
X-WR-CALDESC:GoogleカレンダーやiCalendar形式情報を共有シェ
 アしましょう。近所のイベントから全国のイベントま
 で今日のイベント検索やスケジュールを決めるならち
 っくたっく
X-WR-CALNAME:ちっくたっく
X-WR-TIMEZONE:UTC
BEGIN:VEVENT
SUMMARY:【1st】リーグ戦（こまつドームG）
DTSTART;VALUE=DATE-TIME:20260425T030000Z
DTEND;VALUE=DATE-TIME:20260425T093000Z
UID:428474640620
DESCRIPTION:12:00　鞍月G出発\n12:30　ローソン松任乾町店出
 発\n13:00　現地到着\n13:45　審判（主審＋A2）\n14:30　アッ
 プ開始\n15:30　vsSRF.Komatsu\n17:30　後片付け～現地出発\n18:
 30　鞍月G解散
LOCATION:こまつドームドリームピッチ\, 日本、〒923-0344 
 石川県小松市林町ほ−５
END:VEVENT
END:VCALENDAR
