BEGIN:VCALENDAR
VERSION:2.0
PRODID:-//chikkutakku.com//RDFCal 1.0//EN
X-WR-CALDESC:GoogleカレンダーやiCalendar形式情報を共有シェ
 アしましょう。近所のイベントから全国のイベントま
 で今日のイベント検索やスケジュールを決めるならち
 っくたっく
X-WR-CALNAME:ちっくたっく
X-WR-TIMEZONE:UTC
BEGIN:VEVENT
SUMMARY:大賢者リドルの時間逆行 #4 「リドルの決意」
DTSTART;VALUE=DATE-TIME:20260422T125500Z
DTEND;VALUE=DATE-TIME:20260422T130000Z
UID:431942811563
DESCRIPTION:4 / リドルの決意 / 
LOCATION:tvk
END:VEVENT
END:VCALENDAR
