BEGIN:VCALENDAR
VERSION:2.0
PRODID:-//chikkutakku.com//RDFCal 1.0//EN
X-WR-CALDESC:GoogleカレンダーやiCalendar形式情報を共有シェ
 アしましょう。近所のイベントから全国のイベントま
 で今日のイベント検索やスケジュールを決めるならち
 っくたっく
X-WR-CALNAME:ちっくたっく
X-WR-TIMEZONE:UTC
BEGIN:VEVENT
SUMMARY:【注】転生したらスライムだった件 コリウスの
 夢 #1 コリウス国へ / #2 大怪盗サトル / #3 紫と薔薇
DTSTART;VALUE=DATE-TIME:20260424T113000Z
DTEND;VALUE=DATE-TIME:20260424T130000Z
UID:433919195924
DESCRIPTION: / #1 コリウス国へ / #2 大怪盗サトル / #3 紫と
 薔薇 / https://abema.tv/channels/abema-anime-3/slots/Ah77nKGgSbX16o (無
 料TS48時間) ※リピート放送なし https://www.ten-sura.com/news/a
 nime/news/post/11415
LOCATION:Abemaアニメ3
END:VEVENT
END:VCALENDAR
