BEGIN:VCALENDAR
VERSION:2.0
PRODID:-//chikkutakku.com//RDFCal 1.0//EN
X-WR-CALDESC:GoogleカレンダーやiCalendar形式情報を共有シェ
 アしましょう。近所のイベントから全国のイベントま
 で今日のイベント検索やスケジュールを決めるならち
 っくたっく
X-WR-CALNAME:ちっくたっく
X-WR-TIMEZONE:UTC
BEGIN:VEVENT
SUMMARY:冷徹社長が地味でマジメな私を契約妻に絶対指名
 〜条件だけで選ばれたはずが激愛豹変して〜
DTSTART;VALUE=DATE:20260508
DTEND;VALUE=DATE:20260509
UID:440449226278
DESCRIPTION:2026-05-09冷徹社長が地味でマジメな私を契約妻
 に絶対指名〜条件だけで選ばれたはずが激愛豹変して
 〜宝月なごみ/沖田ちゃとらスターツ出版
LOCATION:
END:VEVENT
END:VCALENDAR
