BEGIN:VCALENDAR
VERSION:2.0
PRODID:-//chikkutakku.com//RDFCal 1.0//EN
X-WR-CALDESC:GoogleカレンダーやiCalendar形式情報を共有シェ
 アしましょう。近所のイベントから全国のイベントま
 で今日のイベント検索やスケジュールを決めるならち
 っくたっく
X-WR-CALNAME:ちっくたっく
X-WR-TIMEZONE:UTC
BEGIN:VEVENT
SUMMARY:古文鳥類学
DTSTART;VALUE=DATE:20260520
DTEND;VALUE=DATE:20260521
UID:447206700431
DESCRIPTION:2026-05-21古文鳥類学三上 修岩波書店
LOCATION:
END:VEVENT
END:VCALENDAR
