BEGIN:VCALENDAR
VERSION:2.0
PRODID:-//chikkutakku.com//RDFCal 1.0//EN
X-WR-CALDESC:GoogleカレンダーやiCalendar形式情報を共有シェ
 アしましょう。近所のイベントから全国のイベントま
 で今日のイベント検索やスケジュールを決めるならち
 っくたっく
X-WR-CALNAME:ちっくたっく
X-WR-TIMEZONE:UTC
BEGIN:VEVENT
SUMMARY:St. Mary\, wife of Cleopas\, the Myrrh-Bearer (1st C)
DTSTART;VALUE=DATE-TIME:20260523T070000Z
DTEND;VALUE=DATE-TIME:20260524T070000Z
UID:453277988063
DESCRIPTION:St. Mary\, wife of Cleopas\, the Myrrh-Bearer (1st C)
LOCATION:
END:VEVENT
END:VCALENDAR
