BEGIN:VCALENDAR
VERSION:2.0
PRODID:-//chikkutakku.com//RDFCal 1.0//EN
X-WR-CALDESC:GoogleカレンダーやiCalendar形式情報を共有シェ
 アしましょう。近所のイベントから全国のイベントま
 で今日のイベント検索やスケジュールを決めるならち
 っくたっく
X-WR-CALNAME:ちっくたっく
X-WR-TIMEZONE:UTC
BEGIN:VEVENT
SUMMARY:地雷系喫茶らんどまいん
DTSTART;VALUE=DATE-TIME:20260421T123000Z
DTEND;VALUE=DATE-TIME:20260421T133000Z
UID:454915355541
DESCRIPTION:【イベント主催者】\n　地雷系喫茶らんどまい
 ん\n【イベント内容】\n　地雷系ファッションを着た可
 愛いキャスト達と1対1でお話をするコンカフェ風イベン
 トです！ご来店お待ちしております！\n【イベントジャ
 ンル】\n　店舗系イベント\n【参加条件（モデル、人数
 制限など）】\n　イベント開始時刻以降にrequest inviteを
 下さった皆様からランダムで定員に達するまで ※当分
 の間、Trust Level(ユーザーランク)がNew User以上の方の参
 加に限定させていただきます。\n【参加方法】\n　"yagupi
 "にfriend request&request invite ※Req in先は直前で変更・中止
 になる場合もございます！その際は公式Xにて周知いた
 しますので、イベント直前も念のためXのご確認願いま
 す🙇‍♂️💦\n【備考】\n　https://x.com/i/status/204621715727
 7864163\nRequest inviteについて、送信先が複数ある場合はい
 ずれか一方のみへの送信をお願いいたします。また、
 複数回の送信はご遠慮下さい。\n冷やかし目的での参加
 はご遠慮下さい。\n無言勢かつデスクトップの方は参加
 をご遠慮下さい。\nイベント中に落ちてしまった場合は
 、再参加可能な場合もございますので落ち着いてもう
 一度req inをお送り下さい。\nReq inが承認された場合は、
 速やかにイベントにお越しくださいますようお願いい
 たします。
LOCATION:
END:VEVENT
END:VCALENDAR
